BEGIN:VCALENDAR
VERSION:2.0
PRODID:-//Nederlandse Protestantse Gemeenschap - ECPv5.9.1//NONSGML v1.0//EN
CALSCALE:GREGORIAN
METHOD:PUBLISH
X-WR-CALNAME:Nederlandse Protestantse Gemeenschap
X-ORIGINAL-URL:http://www.npg.lu
X-WR-CALDESC:Events for Nederlandse Protestantse Gemeenschap
BEGIN:VTIMEZONE
TZID:UTC
BEGIN:STANDARD
TZOFFSETFROM:+0000
TZOFFSETTO:+0000
TZNAME:UTC
DTSTART:20210101T000000
END:STANDARD
END:VTIMEZONE
BEGIN:VEVENT
DTSTART;TZID=UTC:20210212T080000
DTEND;TZID=UTC:20210212T170000
DTSTAMP:20211006T064654
CREATED:20210201T084404Z
LAST-MODIFIED:20210201T084404Z
UID:1267-1613116800-1613149200@www.npg.lu
SUMMARY:Verschijningsdata nieuwsbrief
DESCRIPTION:Kopie graag uiterlijk op de maandag ervoor aan de redactie sturen
URL:http://www.npg.lu/event/verschijningsdata-nieuwsbrief/
END:VEVENT
END:VCALENDAR