BEGIN:VCALENDAR
VERSION:2.0
PRODID:-//Nederlandse Protestantse Gemeenschap - ECPv5.9.1//NONSGML v1.0//EN
CALSCALE:GREGORIAN
METHOD:PUBLISH
X-WR-CALNAME:Nederlandse Protestantse Gemeenschap
X-ORIGINAL-URL:http://www.npg.lu
X-WR-CALDESC:Events for Nederlandse Protestantse Gemeenschap
BEGIN:VTIMEZONE
TZID:UTC
BEGIN:STANDARD
TZOFFSETFROM:+0000
TZOFFSETTO:+0000
TZNAME:UTC
DTSTART:20210101T000000
END:STANDARD
END:VTIMEZONE
BEGIN:VEVENT
DTSTART;TZID=UTC:20210113T200000
DTEND;TZID=UTC:20210113T200000
DTSTAMP:20211011T085741
CREATED:20201006T115733Z
LAST-MODIFIED:20201006T115733Z
UID:348-1610568000-1610568000@www.npg.lu
SUMMARY:Bijbelstudiegroep
DESCRIPTION:Dit seizoen wordt gestart met het boek “Randfiguren” van Johan Visser. Er is ruimte voor vragen om het geloofsleven te verdiepen. We bidden met en voor elkaar. De bijeenkomsten vinden eens in de 3 weken
URL:http://www.npg.lu/event/bijbelstudiegroep-4/
LOCATION:Thuis bij Nienke en Rick Berend
ORGANIZER;CN="":MAILTO:nienkelawerman@hotmail.com
END:VEVENT
BEGIN:VEVENT
DTSTART;TZID=UTC:20210212T080000
DTEND;TZID=UTC:20210212T170000
DTSTAMP:20211011T085741
CREATED:20210119T173558Z
LAST-MODIFIED:20210119T173558Z
UID:1253-1613116800-1613149200@www.npg.lu
SUMMARY:Verschijningsdatum nieuwsbrief
DESCRIPTION:Kopij graag inleveren per mail op de maandag ervoor bij het redactieteam | redactie@npg.lu
URL:http://www.npg.lu/event/verschijningsdatum-nieuwsbrief/
END:VEVENT
BEGIN:VEVENT
DTSTART;TZID=UTC:20210212T080000
DTEND;TZID=UTC:20210212T170000
DTSTAMP:20211011T085741
CREATED:20210119T173709Z
LAST-MODIFIED:20210201T092306Z
UID:1255-1613116800-1613149200@www.npg.lu
SUMMARY:Verschijningsdatum nieuwsbrief
DESCRIPTION:Kopij graag inleveren per mail op de maandag ervoor bij het redactieteam | redactie@npg.lu
URL:http://www.npg.lu/event/verschijningsdatum-nieuwsbrief-2/
CATEGORIES:Agenda
END:VEVENT
BEGIN:VEVENT
DTSTART;TZID=UTC:20210212T080000
DTEND;TZID=UTC:20210212T170000
DTSTAMP:20211011T085741
CREATED:20210201T084404Z
LAST-MODIFIED:20210201T084404Z
UID:1267-1613116800-1613149200@www.npg.lu
SUMMARY:Verschijningsdata nieuwsbrief
DESCRIPTION:Kopie graag uiterlijk op de maandag ervoor aan de redactie sturen
URL:http://www.npg.lu/event/verschijningsdata-nieuwsbrief/
END:VEVENT
BEGIN:VEVENT
DTSTART;TZID=UTC:20210312T080000
DTEND;TZID=UTC:20210312T170000
DTSTAMP:20211011T085741
CREATED:20210201T085914Z
LAST-MODIFIED:20210201T092416Z
UID:1270-1615536000-1615568400@www.npg.lu
SUMMARY:Verschijningsdatum nieuwsbrief
DESCRIPTION:Kopij graag inleveren per mail op de maandag ervoor bij het redactieteam | redactie@npg.lu
URL:http://www.npg.lu/event/verschijningsdatum-nieuwsbrief-3/
CATEGORIES:Agenda
END:VEVENT
BEGIN:VEVENT
DTSTART;TZID=UTC:20210416T080000
DTEND;TZID=UTC:20210416T170000
DTSTAMP:20211011T085741
CREATED:20210201T092609Z
LAST-MODIFIED:20210201T092609Z
UID:1283-1618560000-1618592400@www.npg.lu
SUMMARY:Verschijningsdatum nieuwsbrief
DESCRIPTION:Kopij graag inleveren per mail op de maandag ervoor bij het redactieteam | redactie@npg.lu
URL:http://www.npg.lu/event/verschijningsdatum-nieuwsbrief-4/
CATEGORIES:Agenda
END:VEVENT
BEGIN:VEVENT
DTSTART;TZID=UTC:20210507T080000
DTEND;TZID=UTC:20210507T170000
DTSTAMP:20211011T085741
CREATED:20210201T092843Z
LAST-MODIFIED:20210201T092843Z
UID:1285-1620374400-1620406800@www.npg.lu
SUMMARY:Verschijningsdatum nieuwsbrief
DESCRIPTION:Kopij graag inleveren per mail op de maandag ervoor bij het redactieteam | redactie@npg.lu
URL:http://www.npg.lu/event/verschijningsdatum-nieuwsbrief-5/
CATEGORIES:Agenda
END:VEVENT
BEGIN:VEVENT
DTSTART;TZID=UTC:20210604T080000
DTEND;TZID=UTC:20210604T170000
DTSTAMP:20211011T085741
CREATED:20210201T092925Z
LAST-MODIFIED:20210201T092925Z
UID:1287-1622793600-1622826000@www.npg.lu
SUMMARY:Verschijningsdatum nieuwsbrief
DESCRIPTION:Kopij graag inleveren per mail op de maandag ervoor bij het redactieteam | redactie@npg.lu
URL:http://www.npg.lu/event/verschijningsdatum-nieuwsbrief-6/
CATEGORIES:Agenda
END:VEVENT
BEGIN:VEVENT
DTSTART;TZID=UTC:20210702T080000
DTEND;TZID=UTC:20210702T170000
DTSTAMP:20211011T085741
CREATED:20210201T092959Z
LAST-MODIFIED:20210201T092959Z
UID:1289-1625212800-1625245200@www.npg.lu
SUMMARY:Verschijningsdatum nieuwsbrief
DESCRIPTION:Kopij graag inleveren per mail op de maandag ervoor bij het redactieteam | redactie@npg.lu
URL:http://www.npg.lu/event/verschijningsdatum-nieuwsbrief-7/
CATEGORIES:Agenda
END:VEVENT
BEGIN:VEVENT
DTSTART;TZID=UTC:20210827T080000
DTEND;TZID=UTC:20210827T170000
DTSTAMP:20211011T085741
CREATED:20210201T093035Z
LAST-MODIFIED:20210201T093035Z
UID:1291-1630051200-1630083600@www.npg.lu
SUMMARY:Verschijningsdatum nieuwsbrief
DESCRIPTION:Kopij graag inleveren per mail op de maandag ervoor bij het redactieteam | redactie@npg.lu
URL:http://www.npg.lu/event/verschijningsdatum-nieuwsbrief-8/
END:VEVENT
END:VCALENDAR