BEGIN:VCALENDAR
VERSION:2.0
PRODID:-//Nederlandse Protestantse Gemeenschap - ECPv5.9.1//NONSGML v1.0//EN
CALSCALE:GREGORIAN
METHOD:PUBLISH
X-WR-CALNAME:Nederlandse Protestantse Gemeenschap
X-ORIGINAL-URL:http://www.npg.lu
X-WR-CALDESC:Events for Nederlandse Protestantse Gemeenschap
BEGIN:VTIMEZONE
TZID:UTC
BEGIN:STANDARD
TZOFFSETFROM:+0000
TZOFFSETTO:+0000
TZNAME:UTC
DTSTART:20200101T000000
END:STANDARD
END:VTIMEZONE
BEGIN:VEVENT
DTSTART;TZID=UTC:20201021T200000
DTEND;TZID=UTC:20201021T200000
DTSTAMP:20211008T212759
CREATED:20201006T112231Z
LAST-MODIFIED:20201006T112231Z
UID:327-1603310400-1603310400@www.npg.lu
SUMMARY:Bijbelstudiegroep
DESCRIPTION:Dit seizoen wordt gestart met het boek “Randfiguren” van Johan Visser. Er is ruimte voor vragen om het geloofsleven te verdiepen. We bidden met en voor elkaar. De bijeenkomsten vinden eens in de 3 weken
URL:http://www.npg.lu/event/bijbelstudiegroep/
LOCATION:Thuis bij Nienke en Rick Berend
ORGANIZER;CN="":MAILTO:nienkelawerman@hotmail.com
END:VEVENT
END:VCALENDAR